BEGIN:VCALENDAR
VERSION:2.0
PRODID:-//Veterans Flyfishing - ECPv6.6.0.2//NONSGML v1.0//EN
CALSCALE:GREGORIAN
METHOD:PUBLISH
X-ORIGINAL-URL:https://veteransflyfishing.org
X-WR-CALDESC:Events for Veterans Flyfishing
REFRESH-INTERVAL;VALUE=DURATION:PT1H
X-Robots-Tag:noindex
X-PUBLISHED-TTL:PT1H
BEGIN:VTIMEZONE
TZID:America/New_York
BEGIN:DAYLIGHT
TZOFFSETFROM:-0500
TZOFFSETTO:-0400
TZNAME:EDT
DTSTART:20230312T070000
END:DAYLIGHT
BEGIN:STANDARD
TZOFFSETFROM:-0400
TZOFFSETTO:-0500
TZNAME:EST
DTSTART:20231105T060000
END:STANDARD
END:VTIMEZONE
BEGIN:VEVENT
DTSTART;VALUE=DATE:20230102
DTEND;VALUE=DATE:20230103
DTSTAMP:20260423T200856
CREATED:20220605T141833Z
LAST-MODIFIED:20221222T023453Z
UID:586-1672617600-1672703999@veteransflyfishing.org
SUMMARY:Veteran Outing
DESCRIPTION:Openings Full \nOpen to any veteran. Pick a date and sign up by emailing drmauldin@windstream.net.
URL:https://veteransflyfishing.org/event/veteran-outing-3/
END:VEVENT
BEGIN:VEVENT
DTSTART;VALUE=DATE:20230116
DTEND;VALUE=DATE:20230117
DTSTAMP:20260423T200856
CREATED:20220605T142008Z
LAST-MODIFIED:20221010T232806Z
UID:588-1673827200-1673913599@veteransflyfishing.org
SUMMARY:Veteran Outing
DESCRIPTION:Openings Full \nOpen to any veteran. Pick a date and sign up by emailing drmauldin@windstream.net.
URL:https://veteransflyfishing.org/event/veteran-outing-4/
END:VEVENT
END:VCALENDAR