BEGIN:VCALENDAR
VERSION:2.0
PRODID:-//Veterans Flyfishing - ECPv6.6.0.2//NONSGML v1.0//EN
CALSCALE:GREGORIAN
METHOD:PUBLISH
X-WR-CALNAME:Veterans Flyfishing
X-ORIGINAL-URL:https://veteransflyfishing.org
X-WR-CALDESC:Events for Veterans Flyfishing
REFRESH-INTERVAL;VALUE=DURATION:PT1H
X-Robots-Tag:noindex
X-PUBLISHED-TTL:PT1H
BEGIN:VTIMEZONE
TZID:America/New_York
BEGIN:DAYLIGHT
TZOFFSETFROM:-0500
TZOFFSETTO:-0400
TZNAME:EDT
DTSTART:20220313T070000
END:DAYLIGHT
BEGIN:STANDARD
TZOFFSETFROM:-0400
TZOFFSETTO:-0500
TZNAME:EST
DTSTART:20221106T060000
END:STANDARD
END:VTIMEZONE
BEGIN:VEVENT
DTSTART;VALUE=DATE:20221107
DTEND;VALUE=DATE:20221108
DTSTAMP:20260423T231508
CREATED:20220523T200338Z
LAST-MODIFIED:20220718T193722Z
UID:522-1667779200-1667865599@veteransflyfishing.org
SUMMARY:Veteran Outing
DESCRIPTION:Openings Full \nOpen to any veteran. Pick a date and sign up by emailing drmauldin@windstream.net.
URL:https://veteransflyfishing.org/event/veterans-outing-2/
LOCATION:Montaluce Winery\, 501 Hightower Church Road\, Dahlonega\, GA\, 30533\, United States
ORGANIZER;CN="Dr. John Mauldin":MAILTO:drmauldin@windstream.net
END:VEVENT
BEGIN:VEVENT
DTSTART;VALUE=DATE:20221114
DTEND;VALUE=DATE:20221115
DTSTAMP:20260423T231508
CREATED:20220605T141714Z
LAST-MODIFIED:20220605T144216Z
UID:584-1668384000-1668470399@veteransflyfishing.org
SUMMARY:Guide Outing
DESCRIPTION:Patch Guides and guests only.
URL:https://veteransflyfishing.org/event/guide-outing-3/
END:VEVENT
BEGIN:VEVENT
DTSTART;VALUE=DATE:20221121
DTEND;VALUE=DATE:20221122
DTSTAMP:20260423T231508
CREATED:20220523T200428Z
LAST-MODIFIED:20220823T220800Z
UID:524-1668988800-1669075199@veteransflyfishing.org
SUMMARY:Veteran Outing
DESCRIPTION:Openings Full \nOpen to any veteran. Pick a date and sign up by emailing drmauldin@windstream.net.
URL:https://veteransflyfishing.org/event/veteran-outing/
LOCATION:Montaluce Winery\, 501 Hightower Church Road\, Dahlonega\, GA\, 30533\, United States
ORGANIZER;CN="Dr. John Mauldin":MAILTO:drmauldin@windstream.net
END:VEVENT
BEGIN:VEVENT
DTSTART;VALUE=DATE:20221128
DTEND;VALUE=DATE:20221129
DTSTAMP:20260423T231508
CREATED:20220605T145432Z
LAST-MODIFIED:20220605T145432Z
UID:615-1669593600-1669679999@veteransflyfishing.org
SUMMARY:Guide Outing
DESCRIPTION:Patch Guides and guests only.
URL:https://veteransflyfishing.org/event/guide-outing-6/
END:VEVENT
END:VCALENDAR