BEGIN:VCALENDAR
VERSION:2.0
PRODID:-//Veterans Flyfishing - ECPv6.6.0.2//NONSGML v1.0//EN
CALSCALE:GREGORIAN
METHOD:PUBLISH
X-WR-CALNAME:Veterans Flyfishing
X-ORIGINAL-URL:https://veteransflyfishing.org
X-WR-CALDESC:Events for Veterans Flyfishing
REFRESH-INTERVAL;VALUE=DURATION:PT1H
X-Robots-Tag:noindex
X-PUBLISHED-TTL:PT1H
BEGIN:VTIMEZONE
TZID:America/New_York
BEGIN:DAYLIGHT
TZOFFSETFROM:-0500
TZOFFSETTO:-0400
TZNAME:EDT
DTSTART:20210314T070000
END:DAYLIGHT
BEGIN:STANDARD
TZOFFSETFROM:-0400
TZOFFSETTO:-0500
TZNAME:EST
DTSTART:20211107T060000
END:STANDARD
END:VTIMEZONE
BEGIN:VEVENT
DTSTART;TZID=America/New_York:20211008T093000
DTEND;TZID=America/New_York:20211008T140000
DTSTAMP:20260424T172735
CREATED:20211003T143255Z
LAST-MODIFIED:20211003T143255Z
UID:330-1633685400-1633701600@veteransflyfishing.org
SUMMARY:Equipment Check
DESCRIPTION:VF will check out some new equipment and get ready for the season.
URL:https://veteransflyfishing.org/event/equipment-check/
END:VEVENT
BEGIN:VEVENT
DTSTART;TZID=America/New_York:20211010T080000
DTEND;TZID=America/New_York:20211010T100000
DTSTAMP:20260424T172735
CREATED:20211003T144235Z
LAST-MODIFIED:20211003T144235Z
UID:332-1633852800-1633860000@veteransflyfishing.org
SUMMARY:Free Casting Lesson
DESCRIPTION:Dr. John teaches a free casting lesson most Saturday mornings at 9AM. To get on the list\, contact him at drmauldin@windstream.net.
URL:https://veteransflyfishing.org/event/free-casting-lesson/
END:VEVENT
BEGIN:VEVENT
DTSTART;VALUE=DATE:20211011
DTEND;VALUE=DATE:20211012
DTSTAMP:20260424T172735
CREATED:20210928T185201Z
LAST-MODIFIED:20210928T185237Z
UID:316-1633910400-1633996799@veteransflyfishing.org
SUMMARY:VF Guide Outing Montaluce
DESCRIPTION:
URL:https://veteransflyfishing.org/event/vf-event-frog-hollow/
END:VEVENT
BEGIN:VEVENT
DTSTART;VALUE=DATE:20211023
DTEND;VALUE=DATE:20211024
DTSTAMP:20260424T172735
CREATED:20211004T172920Z
LAST-MODIFIED:20211004T172920Z
UID:336-1634947200-1635033599@veteransflyfishing.org
SUMMARY:Goldrush TU Outing
DESCRIPTION:
URL:https://veteransflyfishing.org/event/goldrush-tu-outing/
END:VEVENT
BEGIN:VEVENT
DTSTART;TZID=America/New_York:20211025T080000
DTEND;TZID=America/New_York:20211025T170000
DTSTAMP:20260424T172735
CREATED:20210928T185105Z
LAST-MODIFIED:20210928T185105Z
UID:314-1635148800-1635181200@veteransflyfishing.org
SUMMARY:Cohutta Vet Fishing Monteluce
DESCRIPTION:
URL:https://veteransflyfishing.org/event/cohutta-vet-fishing-monteluce/
END:VEVENT
END:VCALENDAR