BEGIN:VCALENDAR
VERSION:2.0
PRODID:-//Veterans Flyfishing - ECPv6.6.0.2//NONSGML v1.0//EN
CALSCALE:GREGORIAN
METHOD:PUBLISH
X-ORIGINAL-URL:https://veteransflyfishing.org
X-WR-CALDESC:Events for Veterans Flyfishing
REFRESH-INTERVAL;VALUE=DURATION:PT1H
X-Robots-Tag:noindex
X-PUBLISHED-TTL:PT1H
BEGIN:VTIMEZONE
TZID:America/New_York
BEGIN:DAYLIGHT
TZOFFSETFROM:-0500
TZOFFSETTO:-0400
TZNAME:EDT
DTSTART:20220313T070000
END:DAYLIGHT
BEGIN:STANDARD
TZOFFSETFROM:-0400
TZOFFSETTO:-0500
TZNAME:EST
DTSTART:20221106T060000
END:STANDARD
END:VTIMEZONE
BEGIN:VEVENT
DTSTART;VALUE=DATE:20220513
DTEND;VALUE=DATE:20220515
DTSTAMP:20260424T091324
CREATED:20220322T211345Z
LAST-MODIFIED:20220322T211345Z
UID:503-1652400000-1652572799@veteransflyfishing.org
SUMMARY:We CARE Vet Event
DESCRIPTION:Cobb County hosts a veterans service event and Veterans Flyfishing will have a booth. Come see us.
URL:https://veteransflyfishing.org/event/we-care-vet-event/
END:VEVENT
END:VCALENDAR