BEGIN:VCALENDAR
VERSION:2.0
PRODID:-//Veterans Flyfishing - ECPv6.6.0.2//NONSGML v1.0//EN
CALSCALE:GREGORIAN
METHOD:PUBLISH
X-ORIGINAL-URL:https://veteransflyfishing.org
X-WR-CALDESC:Events for Veterans Flyfishing
REFRESH-INTERVAL;VALUE=DURATION:PT1H
X-Robots-Tag:noindex
X-PUBLISHED-TTL:PT1H
BEGIN:VTIMEZONE
TZID:America/New_York
BEGIN:DAYLIGHT
TZOFFSETFROM:-0500
TZOFFSETTO:-0400
TZNAME:EDT
DTSTART:20210314T070000
END:DAYLIGHT
BEGIN:STANDARD
TZOFFSETFROM:-0400
TZOFFSETTO:-0500
TZNAME:EST
DTSTART:20211107T060000
END:STANDARD
END:VTIMEZONE
BEGIN:VEVENT
DTSTART;TZID=America/New_York:20210928T173000
DTEND;TZID=America/New_York:20210928T193000
DTSTAMP:20260424T185348
CREATED:20210928T185018Z
LAST-MODIFIED:20210928T185018Z
UID:312-1632850200-1632857400@veteransflyfishing.org
SUMMARY:VF Board Meeting Dahlonega
DESCRIPTION:
URL:https://veteransflyfishing.org/event/vf-board-meeting-dahlonega/
END:VEVENT
END:VCALENDAR